BEGIN:VCALENDAR
VERSION:2.0
PRODID:-//eventon.com NONSGML v1.0//EN
CALSCALE:GREGORIAN
METHOD:PUBLISH
BEGIN:VEVENT
UID:69e813e1ea720
DTSTAMP:20260422T001841Z
DTSTART:20260429
DTEND:20260430
LOCATION:
SUMMARY:Rinderbraten mit Rotkohl & Klößen
DESCRIPTION:Rinderbraten mit Rotkohl & Klößen\nhttps://fleischerei-borste
 ndorf.de/events/rinderbraten-mit-rotkohl-kloessen/
URL:https://fleischerei-borstendorf.de/events/rinderbraten-mit-rotkohl-kloessen/
END:VEVENT
END:VCALENDAR