BEGIN:VCALENDAR
VERSION:2.0
PRODID:-//eventon.com NONSGML v1.0//EN
CALSCALE:GREGORIAN
METHOD:PUBLISH
BEGIN:VEVENT
UID:69e60193c4ca0
DTSTAMP:20260420T103603Z
DTSTART:20260305T095800Z
DTEND:20260305T095800Z
LOCATION:
SUMMARY:Hefeklöße mit Vanillesoße / Linsen mit Bratwurst
DESCRIPTION:Hefeklöße mit Vanillesoße / Linsen mit Bratwurst\nhttps://fl
 eischerei-borstendorf.de/events/hefekloesse-mit-vanillesosse-linsen-mit-bra
 twurst/
URL:https://fleischerei-borstendorf.de/events/hefekloesse-mit-vanillesosse-linsen-mit-bratwurst/
END:VEVENT
END:VCALENDAR