BEGIN:VCALENDAR
VERSION:2.0
PRODID:-//eventon.com NONSGML v1.0//EN
CALSCALE:GREGORIAN
METHOD:PUBLISH
BEGIN:VEVENT
UID:69e63a13189d5
DTSTAMP:20260420T143707Z
DTSTART:20251120
DTEND:20251121
LOCATION:
SUMMARY:Backfisch mit Rotkohl & Kartoffeln
DESCRIPTION:Backfisch mit Rotkohl & Kartoffeln\nhttps://fleischerei-borsten
 dorf.de/events/backfisch-mit-rotkohl-kartoffeln/
URL:https://fleischerei-borstendorf.de/events/backfisch-mit-rotkohl-kartoffeln/
END:VEVENT
END:VCALENDAR