BEGIN:VCALENDAR
VERSION:2.0
PRODID:-//eventon.com NONSGML v1.0//EN
CALSCALE:GREGORIAN
METHOD:PUBLISH
BEGIN:VEVENT
UID:69e89bdf3ba1c
DTSTAMP:20260422T095855Z
DTSTART:20260318
DTEND:20260319
LOCATION:
SUMMARY:Wiegebraten mit Gemüse & Kartoffelbrei
DESCRIPTION:Wiegebraten mit Gemüse & Kartoffelbrei\nhttps://fleischerei-bo
 rstendorf.de/events/wiegebraten-mit-gemuese-kartoffelbrei/
URL:https://fleischerei-borstendorf.de/events/wiegebraten-mit-gemuese-kartoffelbrei/
END:VEVENT
END:VCALENDAR