BEGIN:VCALENDAR
VERSION:2.0
PRODID:-//eventon.com NONSGML v1.0//EN
CALSCALE:GREGORIAN
METHOD:PUBLISH
BEGIN:VEVENT
UID:69e4e77e35f40
DTSTAMP:20260419T143230Z
DTSTART:20250903
DTEND:20250904
LOCATION:
SUMMARY:Steak mit Rahmchampis & Schupfnudeln
DESCRIPTION:Steak mit Rahmchampis & Schupfnudeln\nhttps://fleischerei-borst
 endorf.de/events/steak-mit-rahmchampis-schupfnudeln-2/
URL:https://fleischerei-borstendorf.de/events/steak-mit-rahmchampis-schupfnudeln-2/
END:VEVENT
END:VCALENDAR