BEGIN:VCALENDAR
VERSION:2.0
PRODID:-//eventon.com NONSGML v1.0//EN
CALSCALE:GREGORIAN
METHOD:PUBLISH
BEGIN:VEVENT
UID:69e8a5db487c1
DTSTAMP:20260422T104131Z
DTSTART:20250813
DTEND:20250814
LOCATION:
SUMMARY:Jägerschnitzel mit Tomatensoße & Spirelli
DESCRIPTION:Jägerschnitzel mit Tomatensoße & Spirelli\nhttps://fleischere
 i-borstendorf.de/events/jaegerschnitzel-mit-tomatensosse-spirelli/
URL:https://fleischerei-borstendorf.de/events/jaegerschnitzel-mit-tomatensosse-spirelli/
END:VEVENT
END:VCALENDAR