BEGIN:VCALENDAR
VERSION:2.0
PRODID:-//eventon.com NONSGML v1.0//EN
CALSCALE:GREGORIAN
METHOD:PUBLISH
BEGIN:VEVENT
UID:69e748d7666a4
DTSTAMP:20260421T095223Z
DTSTART:20250730
DTEND:20250731
LOCATION:
SUMMARY:Asianudelpfanne mit Hähnchenstreifen
DESCRIPTION:Asianudelpfanne mit Hähnchenstreifen\nhttps://fleischerei-bors
 tendorf.de/events/asianudelpfanne-mit-haehnchenstreifen/
URL:https://fleischerei-borstendorf.de/events/asianudelpfanne-mit-haehnchenstreifen/
END:VEVENT
END:VCALENDAR