BEGIN:VCALENDAR
VERSION:2.0
PRODID:-//eventon.com NONSGML v1.0//EN
CALSCALE:GREGORIAN
METHOD:PUBLISH
BEGIN:VEVENT
UID:69e7492b08eac
DTSTAMP:20260421T095347Z
DTSTART:20250724
DTEND:20250725
LOCATION:
SUMMARY:Zunge mit Buttererbsen und Kartoffelbrei
DESCRIPTION:Zunge mit Buttererbsen und Kartoffelbrei\nhttps://fleischerei-b
 orstendorf.de/events/zunge-mit-buttererbsen-und-kartoffelbrei/
URL:https://fleischerei-borstendorf.de/events/zunge-mit-buttererbsen-und-kartoffelbrei/
END:VEVENT
END:VCALENDAR