BEGIN:VCALENDAR
VERSION:2.0
PRODID:-//eventon.com NONSGML v1.0//EN
CALSCALE:GREGORIAN
METHOD:PUBLISH
BEGIN:VEVENT
UID:69e4e797d9b10
DTSTAMP:20260419T143255Z
DTSTART:20250718
DTEND:20250719
LOCATION:
SUMMARY:Toskanabällchen mit Schupfnudeln
DESCRIPTION:Toskanabällchen mit Schupfnudeln\nhttps://fleischerei-borstend
 orf.de/events/toskanabaellchen-mit-schupfnudeln/
URL:https://fleischerei-borstendorf.de/events/toskanabaellchen-mit-schupfnudeln/
END:VEVENT
END:VCALENDAR