BEGIN:VCALENDAR
VERSION:2.0
PRODID:-//eventon.com NONSGML v1.0//EN
CALSCALE:GREGORIAN
METHOD:PUBLISH
BEGIN:VEVENT
UID:69e6027364c14
DTSTAMP:20260420T103947Z
DTSTART:20250626
DTEND:20250627
LOCATION:
SUMMARY:Sülze mit Remoulade\,  Bratkartoffeln & Salat
DESCRIPTION:Sülze mit Remoulade\,  Bratkartoffeln & Salat\nhttps://fleisch
 erei-borstendorf.de/events/suelze-mit-remoulade-bratkartoffeln-salat/
URL:https://fleischerei-borstendorf.de/events/suelze-mit-remoulade-bratkartoffeln-salat/
END:VEVENT
END:VCALENDAR